BEGIN:VCALENDAR
VERSION:2.0
PRODID:-//eventon.com NONSGML v1.0//EN
BEGIN:VEVENT
UID:69e6c54f21a48
DTSTAMP:20260421T003111
DTSTART:20230902T093000Z
DTEND:20230902T123000Z
LOCATION:Online Rua Domingos Machado\,  nº 186
SUMMARY:Módulo Avançado - Terapia da Aposição dos Opostos
DESCRIPTION: Módulo Avançado - Terapia da Aposição dos Opostos
END:VEVENT
END:VCALENDAR